BEGIN:VCALENDAR
VERSION:2.0
PRODID:-//TMBR TRAILS - ECPv6.15.20//NONSGML v1.0//EN
CALSCALE:GREGORIAN
METHOD:PUBLISH
X-ORIGINAL-URL:http://tmbrtrails.org
X-WR-CALDESC:Events for TMBR TRAILS
REFRESH-INTERVAL;VALUE=DURATION:PT1H
X-Robots-Tag:noindex
X-PUBLISHED-TTL:PT1H
BEGIN:VTIMEZONE
TZID:America/Chicago
BEGIN:DAYLIGHT
TZOFFSETFROM:-0600
TZOFFSETTO:-0500
TZNAME:CDT
DTSTART:20240310T080000
END:DAYLIGHT
BEGIN:STANDARD
TZOFFSETFROM:-0500
TZOFFSETTO:-0600
TZNAME:CST
DTSTART:20241103T070000
END:STANDARD
BEGIN:DAYLIGHT
TZOFFSETFROM:-0600
TZOFFSETTO:-0500
TZNAME:CDT
DTSTART:20250309T080000
END:DAYLIGHT
BEGIN:STANDARD
TZOFFSETFROM:-0500
TZOFFSETTO:-0600
TZNAME:CST
DTSTART:20251102T070000
END:STANDARD
BEGIN:DAYLIGHT
TZOFFSETFROM:-0600
TZOFFSETTO:-0500
TZNAME:CDT
DTSTART:20260308T080000
END:DAYLIGHT
BEGIN:STANDARD
TZOFFSETFROM:-0500
TZOFFSETTO:-0600
TZNAME:CST
DTSTART:20261101T070000
END:STANDARD
END:VTIMEZONE
BEGIN:VEVENT
DTSTART;VALUE=DATE:20250630
DTEND;VALUE=DATE:20250701
DTSTAMP:20260419T095241
CREATED:20250628T012527Z
LAST-MODIFIED:20250628T012736Z
UID:7530-1751241600-1751327999@tmbrtrails.org
SUMMARY:No Group Ride This Week
DESCRIPTION:We are taking the holiday week off\, see you next week at Cloie Creek!
URL:http://tmbrtrails.org/events/no-group-ride-this-week/
LOCATION:IA
ATTACH;FMTTYPE=image/jpeg:http://tmbrtrails.org/wp-content/uploads/2024/05/GROUP-RIDE-IMG-01.jpg
END:VEVENT
END:VCALENDAR