BEGIN:VCALENDAR
VERSION:2.0
PRODID:-//TMBR TRAILS - ECPv6.15.20//NONSGML v1.0//EN
CALSCALE:GREGORIAN
METHOD:PUBLISH
X-WR-CALNAME:TMBR TRAILS
X-ORIGINAL-URL:http://tmbrtrails.org
X-WR-CALDESC:Events for TMBR TRAILS
REFRESH-INTERVAL;VALUE=DURATION:PT1H
X-Robots-Tag:noindex
X-PUBLISHED-TTL:PT1H
BEGIN:VTIMEZONE
TZID:America/Chicago
BEGIN:DAYLIGHT
TZOFFSETFROM:-0600
TZOFFSETTO:-0500
TZNAME:CDT
DTSTART:20240310T080000
END:DAYLIGHT
BEGIN:STANDARD
TZOFFSETFROM:-0500
TZOFFSETTO:-0600
TZNAME:CST
DTSTART:20241103T070000
END:STANDARD
BEGIN:DAYLIGHT
TZOFFSETFROM:-0600
TZOFFSETTO:-0500
TZNAME:CDT
DTSTART:20250309T080000
END:DAYLIGHT
BEGIN:STANDARD
TZOFFSETFROM:-0500
TZOFFSETTO:-0600
TZNAME:CST
DTSTART:20251102T070000
END:STANDARD
BEGIN:DAYLIGHT
TZOFFSETFROM:-0600
TZOFFSETTO:-0500
TZNAME:CDT
DTSTART:20260308T080000
END:DAYLIGHT
BEGIN:STANDARD
TZOFFSETFROM:-0500
TZOFFSETTO:-0600
TZNAME:CST
DTSTART:20261101T070000
END:STANDARD
END:VTIMEZONE
BEGIN:VEVENT
DTSTART;TZID=America/Chicago:20250812T170000
DTEND;TZID=America/Chicago:20250812T193000
DTSTAMP:20260420T010200
CREATED:20250507T012224Z
LAST-MODIFIED:20250811T194958Z
UID:7460-1755018000-1755027000@tmbrtrails.org
SUMMARY:9th Annual Mountain Bike Kids Race
DESCRIPTION:Get ready for a fun evening on the trails with our FREE\, family-friendly Kids Race on Tuesday\, August 12th at Cloie Creek!\nThis event is perfect for young riders and their families to enjoy the outdoors and some friendly competition. \nAge Divisions: 6 & under\, 7–9\,  & 10–12 \nPre-Registration is Closed (08/11)5:00pm\, Race Registration table opens.\nLocated at the the pavilion. \nBring your bikes\, helmets\, water bottles and cheering voices—it’s going to be a great night for kids\, bikes\, food trucks\, and the community!
URL:http://tmbrtrails.org/events/9th-annual-mountain-bike-kids-race/
LOCATION:Cloie Creek Park\, 3031 Sanibel Lane\, Asbury\, 52002\, United States
CATEGORIES:Community Race+Ride
ATTACH;FMTTYPE=image/jpeg:http://tmbrtrails.org/wp-content/uploads/2022/06/cloieRACE-01.jpeg
END:VEVENT
END:VCALENDAR