BEGIN:VCALENDAR
VERSION:2.0
PRODID:-//TMBR TRAILS - ECPv6.15.20//NONSGML v1.0//EN
CALSCALE:GREGORIAN
METHOD:PUBLISH
X-WR-CALNAME:TMBR TRAILS
X-ORIGINAL-URL:http://tmbrtrails.org
X-WR-CALDESC:Events for TMBR TRAILS
REFRESH-INTERVAL;VALUE=DURATION:PT1H
X-Robots-Tag:noindex
X-PUBLISHED-TTL:PT1H
BEGIN:VTIMEZONE
TZID:America/Chicago
BEGIN:DAYLIGHT
TZOFFSETFROM:-0600
TZOFFSETTO:-0500
TZNAME:CDT
DTSTART:20240310T080000
END:DAYLIGHT
BEGIN:STANDARD
TZOFFSETFROM:-0500
TZOFFSETTO:-0600
TZNAME:CST
DTSTART:20241103T070000
END:STANDARD
BEGIN:DAYLIGHT
TZOFFSETFROM:-0600
TZOFFSETTO:-0500
TZNAME:CDT
DTSTART:20250309T080000
END:DAYLIGHT
BEGIN:STANDARD
TZOFFSETFROM:-0500
TZOFFSETTO:-0600
TZNAME:CST
DTSTART:20251102T070000
END:STANDARD
BEGIN:DAYLIGHT
TZOFFSETFROM:-0600
TZOFFSETTO:-0500
TZNAME:CDT
DTSTART:20260308T080000
END:DAYLIGHT
BEGIN:STANDARD
TZOFFSETFROM:-0500
TZOFFSETTO:-0600
TZNAME:CST
DTSTART:20261101T070000
END:STANDARD
END:VTIMEZONE
BEGIN:VEVENT
DTSTART;TZID=America/Chicago:20251028T190000
DTEND;TZID=America/Chicago:20251028T210000
DTSTAMP:20260420T011207
CREATED:20240615T024250Z
LAST-MODIFIED:20251023T012523Z
UID:7046-1761678000-1761685200@tmbrtrails.org
SUMMARY:TMBR Board Meeting
DESCRIPTION:Become part of the movement! \nMeet with the TMBR board\, members\, and other advocates to plan future and ongoing projects. \nOur members organize volunteer events\, maintain public use trails\, apply for grants\, communicate with civic leaders\, and other less noticeable things like maintaining social media and website communication. \n  \nAll are welcome! \nMeetings usually last 1.5 to 2 hours and are typically the second Tuesday of each month. If you are not a usual meeting attendee and would like to receive a copy of this month’s full agenda please email tmbrinfo@gmail.com \nIMBA/TMBR members are welcome to attend all meetings. Non-members can join and address the group at the start of the meeting. Non-members may be asked to leave as the meeting progresses to established agenda items. \nIf you would like to become a member join at: https://tmbrtrails.org/join/
URL:http://tmbrtrails.org/events/tmbr-board-meeting-2/
LOCATION:Copper Kettle\, 2987 Jackson Street\, Dubuque\, IA\, United States
CATEGORIES:Meetings
ATTACH;FMTTYPE=image/png:http://tmbrtrails.org/wp-content/uploads/2021/05/cropped-TMBR-LOGO-SITE-BADGE-2.png
END:VEVENT
END:VCALENDAR