BEGIN:VCALENDAR
VERSION:2.0
PRODID:-//TMBR TRAILS - ECPv6.15.20//NONSGML v1.0//EN
CALSCALE:GREGORIAN
METHOD:PUBLISH
X-ORIGINAL-URL:http://tmbrtrails.org
X-WR-CALDESC:Events for TMBR TRAILS
REFRESH-INTERVAL;VALUE=DURATION:PT1H
X-Robots-Tag:noindex
X-PUBLISHED-TTL:PT1H
BEGIN:VTIMEZONE
TZID:America/Chicago
BEGIN:DAYLIGHT
TZOFFSETFROM:-0600
TZOFFSETTO:-0500
TZNAME:CDT
DTSTART:20230312T080000
END:DAYLIGHT
BEGIN:STANDARD
TZOFFSETFROM:-0500
TZOFFSETTO:-0600
TZNAME:CST
DTSTART:20231105T070000
END:STANDARD
BEGIN:DAYLIGHT
TZOFFSETFROM:-0600
TZOFFSETTO:-0500
TZNAME:CDT
DTSTART:20240310T080000
END:DAYLIGHT
BEGIN:STANDARD
TZOFFSETFROM:-0500
TZOFFSETTO:-0600
TZNAME:CST
DTSTART:20241103T070000
END:STANDARD
BEGIN:DAYLIGHT
TZOFFSETFROM:-0600
TZOFFSETTO:-0500
TZNAME:CDT
DTSTART:20250309T080000
END:DAYLIGHT
BEGIN:STANDARD
TZOFFSETFROM:-0500
TZOFFSETTO:-0600
TZNAME:CST
DTSTART:20251102T070000
END:STANDARD
END:VTIMEZONE
BEGIN:VEVENT
DTSTART;TZID=America/Chicago:20240824T100000
DTEND;TZID=America/Chicago:20240824T160000
DTSTAMP:20260423T045646
CREATED:20240808T021732Z
LAST-MODIFIED:20240816T013220Z
UID:7193-1724493600-1724515200@tmbrtrails.org
SUMMARY:Farside Meetup
DESCRIPTION:TMBR Rides Together \nMeetup with the TMBR community to shred the Tri-States best downhill trails. Whether you’re a veteran pass holder who enjoys riding with like-minded people or a Farside first timer who wants some friends on the trail\, saddle up and get ready for an unforgettable day! \nMeeting spot will be at the bike park trail map. Look for the friendly faces wearing TMBR shirts. If no one is there\, runs typically take 15-20min\, and we will be back! Then break off into groups that most closely match your skill level. \nTMBR Meeting to follow at 5:00pm. \nDiscounts and Lift Tickets \nAll riders are responsible for purchasing their own lift tickets. \nTMBR Members get 20% off a season pass (Regular: $250 // Member $200!) Passes must be purchased in person at Chestnut to receive a member discount. \nFarside Bike Park Info \nPlease familiarize yourself with the requirements and responsibilities of all riders at Farside Bike Park found here: Farside Bike Park (chestnutmtn.com). \nThanks to Chestnut Mountain Resort and Luke Krolikowski for being community trail advocates.
URL:http://tmbrtrails.org/events/chestnut-meetup/
LOCATION:Chestnut/Farside MTB Park\, 8700 West Chestnut Mountain Road\, IL\, 61036\, United States
CATEGORIES:Group Rides
ATTACH;FMTTYPE=image/jpeg:http://tmbrtrails.org/wp-content/uploads/2024/04/FBP-HeaderGraphic-96dpi.jpeg
END:VEVENT
BEGIN:VEVENT
DTSTART;TZID=America/Chicago:20240709T180000
DTEND;TZID=America/Chicago:20240709T193000
DTSTAMP:20260423T045646
CREATED:20240701T004748Z
LAST-MODIFIED:20240701T004828Z
UID:7140-1720548000-1720553400@tmbrtrails.org
SUMMARY:Monday Group Ride At Interstate Power
DESCRIPTION:Beginner and Intermediate Group Ride  \nWhether you’re a seasoned pro or new to the trails\, rest assured this will be a “no drop ride” where we stick together\, support one another and conquer the trials as a unified team. \nRide planned for 7-10 miles or 1.5-2 hours. \nChildren of moderate to high ability are welcome\, parental supervision is required. \nWhat to bring \nRequired: Helmets\, close toed shoes\, and water. \nRecommended: Bug spray\, multi tool\, and flat kit. \nCancelations/Rain Days \nRide will be canceled for the week if trail status is CLOSED on Trailforks. \nCheck back to the events calendar and Facebook for updates.
URL:http://tmbrtrails.org/events/monday-group-ride-at-interstate-power/
LOCATION:Interstate Power Preserve\, 7523 Olde Davenport Road\, DUBUQUE\, IA\, 52003\, United States
CATEGORIES:Group Rides
ATTACH;FMTTYPE=image/jpeg:http://tmbrtrails.org/wp-content/uploads/2024/05/GROUP-RIDE-IMG-01.jpg
END:VEVENT
BEGIN:VEVENT
DTSTART;TZID=America/Chicago:20240624T180000
DTEND;TZID=America/Chicago:20240624T193000
DTSTAMP:20260423T045646
CREATED:20240529T204724Z
LAST-MODIFIED:20240529T204724Z
UID:7002-1719252000-1719257400@tmbrtrails.org
SUMMARY:Monday Group Ride at Proving Grounds
DESCRIPTION:Beginner and Intermediate Group Ride  \nWhether you’re a seasoned pro or new to the trails\, rest assured this will be a “no drop ride” where we stick together\, support one another and conquer the trials as a unified team. \nRide planned for 7-10 miles or 1.5-2 hours. \nChildren of moderate to high ability are welcome\, parental supervision is required. \nWhat to bring \nRequired: Helmets\, close toed shoes\, and water. \nRecommended: Bug spray\, multi tool\, and flat kit. \nCancelations/Rain Days \nRide will be canceled for the week if trail status is CLOSED on Trailforks. \nCheck back to the events calendar and Facebook for updates.
URL:http://tmbrtrails.org/events/monday-group-ride-at-proving-grounds-2/
LOCATION:Proving Grounds Recreation Area\, 10616 W. John Deere Road\, Dubuque\, IA\, 52001\, United States
CATEGORIES:Group Rides
ATTACH;FMTTYPE=image/jpeg:http://tmbrtrails.org/wp-content/uploads/2024/04/Post-for-Facebook.jpg
END:VEVENT
BEGIN:VEVENT
DTSTART;TZID=America/Chicago:20240527T180000
DTEND;TZID=America/Chicago:20240527T193000
DTSTAMP:20260423T045646
CREATED:20240428T193056Z
LAST-MODIFIED:20240506T184705Z
UID:6884-1716832800-1716838200@tmbrtrails.org
SUMMARY:No Drops at Interstate Power Preserve / Group Ride
DESCRIPTION:Inclusive ride for beginner to intermediate riders. No one left behind. \nMeet new friends and conquer harder features with the help of more experienced riders. \nRide planned for 6-9 miles or 1.5-2 hours. \nImportant Notes \nHelmets and close toe shoes are required for every rider. \nWater\, bug spray\, and other provisions will not be provided by TMBR. \nChildren of moderate to high ability are welcome\, parental supervision is required. \nCancellations and rain days will be posted on the website calendar and Facebook group page.
URL:http://tmbrtrails.org/events/no-drops-at-proving-grounds-group-ride/
LOCATION:Interstate Power Preserve\, 7523 Olde Davenport Road\, DUBUQUE\, IA\, 52003\, United States
CATEGORIES:Group Rides
ATTACH;FMTTYPE=image/jpeg:http://tmbrtrails.org/wp-content/uploads/2024/04/Post-for-Facebook.jpg
END:VEVENT
BEGIN:VEVENT
DTSTART;TZID=America/Chicago:20240520T180000
DTEND;TZID=America/Chicago:20240520T193000
DTSTAMP:20260423T045646
CREATED:20240428T192847Z
LAST-MODIFIED:20240506T184649Z
UID:6882-1716228000-1716233400@tmbrtrails.org
SUMMARY:Beginner and Intermediate Group Ride
DESCRIPTION:Inclusive ride for beginner to intermediate riders. No one left behind. \nMeet new friends and conquer harder features with the help of more experienced riders. \nRide planned for 6-9 miles or 1.5-2 hours. \nImportant Notes \nHelmets and close toe shoes are required for every rider. \nWater\, bug spray\, and other provisions will not be provided by TMBR. \nChildren of moderate to high ability are welcome\, parental supervision is required. \nCancellations and rain days will be posted on the website calendar and Facebook group page.
URL:http://tmbrtrails.org/events/beginner-and-intermediate-group-ride-3/
LOCATION:Proving Grounds Recreation Area\, 10616 W. John Deere Road\, Dubuque\, IA\, 52001\, United States
CATEGORIES:Group Rides
ATTACH;FMTTYPE=image/jpeg:http://tmbrtrails.org/wp-content/uploads/2024/04/PedalPOWER-GroupRIDE-Image.jpg
END:VEVENT
BEGIN:VEVENT
DTSTART;TZID=America/Chicago:20240513T180000
DTEND;TZID=America/Chicago:20240513T193000
DTSTAMP:20260423T045646
CREATED:20240428T192352Z
LAST-MODIFIED:20240428T192417Z
UID:6877-1715623200-1715628600@tmbrtrails.org
SUMMARY:Beginner and Intermediate Group Ride
DESCRIPTION:Inclusive ride for beginner to intermediate riders. No one left behind. \nMeet new friends and conquer harder features with the help of more experienced riders. \nRide planned for 7-10 miles or 1.5-2 hours. \nImportant Notes \nHelmets and close toe shoes are required for every rider. \nWater\, bug spray\, and other provisions will not be provided by TMBR. \nChildren of moderate to high ability are welcome\, parental supervision is required. \nCancellations and rain days will be posted on the website calendar and Facebook. \nQuestions? \nContact: Keagan McBeth on Facebook \nEmail: tmbrinfo@gmail.com
URL:http://tmbrtrails.org/events/beginner-and-intermediate-group-ride-2/
LOCATION:Interstate Power Preserve\, 7523 Olde Davenport Road\, DUBUQUE\, IA\, 52003\, United States
CATEGORIES:Group Rides
ATTACH;FMTTYPE=image/jpeg:http://tmbrtrails.org/wp-content/uploads/2024/04/Post-for-Facebook.jpg
END:VEVENT
BEGIN:VEVENT
DTSTART;TZID=America/Chicago:20240506T180000
DTEND;TZID=America/Chicago:20240506T193000
DTSTAMP:20260423T045646
CREATED:20240428T191805Z
LAST-MODIFIED:20240428T192513Z
UID:6872-1715018400-1715023800@tmbrtrails.org
SUMMARY:Beginner and Intermediate Group Ride
DESCRIPTION:Inclusive ride for beginner to intermediate riders. No one left behind. \nMeet new friends and conquer harder features with the help of more experienced riders. \nRide planned for 6-9 miles or 1.5-2 hours. \nImportant Notes \nHelmets and close toe shoes are required for every rider. \nWater\, bug spray\, and other provisions will not be provided by TMBR. \nChildren of moderate to high ability are welcome\, parental supervision is required. \nCancellations and rain days will be posted on the website calendar and Facebook group page.
URL:http://tmbrtrails.org/events/beginner-and-intermediate-group-ride/
LOCATION:Proving Grounds Recreation Area\, 10616 W. John Deere Road\, Dubuque\, IA\, 52001\, United States
CATEGORIES:Group Rides
ATTACH;FMTTYPE=image/jpeg:http://tmbrtrails.org/wp-content/uploads/2024/04/PedalPOWER-GroupRIDE-Image.jpg
END:VEVENT
END:VCALENDAR